BEGIN:VCALENDAR
VERSION:2.0
PRODID:-//eventon.com NONSGML v1.0//EN
CALSCALE:GREGORIAN
METHOD:PUBLISH
BEGIN:VEVENT
UID:69e73d25d470d
DTSTAMP:20260421T090229Z
DTSTART:20250501T210000Z
DTEND:20250501T230000Z
LOCATION:Bowling Green Community Center 610 West Main Street
SUMMARY:Building a Vibrant Community: Week 1
DESCRIPTION:Join us for Session 9 of Building a Vibrant Community\,  a 6-we
 ek focus group & book study to create meaningful change and spur commun
 ity revitalization in Hardee County!  Dates: May 1 – June 5&nbsp
 ;Time: Thursday nights\,  5-7 PM Location: Bowling Green Community Cen
 ter; 610 W. Main St. Bowling Green\,  FL 33834[..]\nhttps://thedevelopmentg
 roup.net/events/building-a-vibrant-community-week-1/
URL:https://thedevelopmentgroup.net/events/building-a-vibrant-community-week-1/
END:VEVENT
END:VCALENDAR