BEGIN:VCALENDAR
VERSION:2.0
PRODID:-//eventon.com NONSGML v1.0//EN
CALSCALE:GREGORIAN
METHOD:PUBLISH
BEGIN:VEVENT
UID:69ecc0121bb8c
DTSTAMP:20260425T132226Z
DTSTART:20250710T123000Z
DTEND:20250710T140000Z
LOCATION:County Commission Building 412 West Orange Street\,  Wauchula\,  Florida
SUMMARY:EDC/IDA Board Meeting
DESCRIPTION:\nhttps://thedevelopmentgroup.net/events/edc-ida-board-meeting-
 6/
URL:https://thedevelopmentgroup.net/events/edc-ida-board-meeting-6/
END:VEVENT
END:VCALENDAR