BEGIN:VCALENDAR
VERSION:2.0
PRODID:-//eventon.com NONSGML v1.0//EN
CALSCALE:GREGORIAN
METHOD:PUBLISH
BEGIN:VEVENT
UID:69ea2c369ffe5
DTSTAMP:20260423T142702Z
DTSTART:20241212T083000Z
DTEND:20241212T093000Z
LOCATION:Board Of County Commission Chambers 412 W Orange St\,  Room 103 Wauchula\,  FL 33873
SUMMARY:IDA / EDA Board Meeting
DESCRIPTION:\nhttps://thedevelopmentgroup.net/events/ida-eda-board-meeting-
 5/
URL:https://thedevelopmentgroup.net/events/ida-eda-board-meeting-5/
END:VEVENT
END:VCALENDAR